{ "currentVersion": 10.71, "cimVersion": "2.4.0", "serviceDescription": "
Parcels tax map for Iroquois County, Illinois.<\/SPAN><\/P><\/DIV><\/DIV>",
"mapName": "Tax Map",
"description": " Parcels tax map for Iroquois County, Illinois.<\/SPAN><\/P><\/DIV><\/DIV>",
"copyrightText": "Iroquois County, Illinois; Bruce Harris & Associates",
"supportsDynamicLayers": true,
"layers": [
{
"id": 0,
"name": "Annotation",
"parentLayerId": -1,
"defaultVisibility": true,
"subLayerIds": [
69,
68,
62,
60,
57,
54,
51,
42,
39,
36,
33,
30,
27,
24,
21,
18,
15,
13,
10,
7,
4,
1,
65
],
"minScale": 32000,
"maxScale": 0,
"type": "Group Layer",
"supportsDynamicLegends": false
},
{
"id": 69,
"name": "VacatedText",
"parentLayerId": 0,
"defaultVisibility": true,
"subLayerIds": [
70,
71
],
"minScale": 0,
"maxScale": 0,
"type": "Annotation Layer",
"geometryType": "esriGeometryPolygon",
"supportsDynamicLegends": false
},
{
"id": 70,
"name": "100 Scale",
"parentLayerId": 69,
"defaultVisibility": true,
"subLayerIds": null,
"minScale": 2000,
"maxScale": 0,
"supportsDynamicLegends": false
},
{
"id": 71,
"name": "400 Scale",
"parentLayerId": 69,
"defaultVisibility": true,
"subLayerIds": null,
"minScale": 250000,
"maxScale": 2000,
"supportsDynamicLegends": false
},
{
"id": 68,
"name": "TownshipNames",
"parentLayerId": 0,
"defaultVisibility": true,
"subLayerIds": [
66,
67
],
"minScale": 0,
"maxScale": 0,
"type": "Annotation Layer",
"geometryType": "esriGeometryPolygon",
"supportsDynamicLegends": false
},
{
"id": 66,
"name": "100 Scale",
"parentLayerId": 68,
"defaultVisibility": true,
"subLayerIds": null,
"minScale": 2000,
"maxScale": 0,
"supportsDynamicLegends": false
},
{
"id": 67,
"name": "400 Scale",
"parentLayerId": 68,
"defaultVisibility": true,
"subLayerIds": null,
"minScale": 250000,
"maxScale": 2000,
"supportsDynamicLegends": false
},
{
"id": 62,
"name": "SubdivCodes",
"parentLayerId": 0,
"defaultVisibility": true,
"subLayerIds": [
63,
64
],
"minScale": 0,
"maxScale": 0,
"type": "Annotation Layer",
"geometryType": "esriGeometryPolygon",
"supportsDynamicLegends": false
},
{
"id": 63,
"name": "100 Scale",
"parentLayerId": 62,
"defaultVisibility": true,
"subLayerIds": null,
"minScale": 2000,
"maxScale": 0,
"supportsDynamicLegends": false
},
{
"id": 64,
"name": "400 Scale",
"parentLayerId": 62,
"defaultVisibility": true,
"subLayerIds": null,
"minScale": 250000,
"maxScale": 2000,
"supportsDynamicLegends": false
},
{
"id": 60,
"name": "SectionNumbers",
"parentLayerId": 0,
"defaultVisibility": true,
"subLayerIds": [
61
],
"minScale": 0,
"maxScale": 0,
"type": "Annotation Layer",
"geometryType": "esriGeometryPolygon",
"supportsDynamicLegends": false
},
{
"id": 61,
"name": "Annotation Class 1",
"parentLayerId": 60,
"defaultVisibility": true,
"subLayerIds": null,
"minScale": 10000,
"maxScale": 0,
"supportsDynamicLegends": false
},
{
"id": 57,
"name": "SecSurvDimensions",
"parentLayerId": 0,
"defaultVisibility": true,
"subLayerIds": [
58,
59
],
"minScale": 0,
"maxScale": 0,
"type": "Annotation Layer",
"geometryType": "esriGeometryPolygon",
"supportsDynamicLegends": false
},
{
"id": 58,
"name": "100 Scale",
"parentLayerId": 57,
"defaultVisibility": true,
"subLayerIds": null,
"minScale": 2000,
"maxScale": 0,
"supportsDynamicLegends": false
},
{
"id": 59,
"name": "400 Scale",
"parentLayerId": 57,
"defaultVisibility": true,
"subLayerIds": null,
"minScale": 250000,
"maxScale": 2000,
"supportsDynamicLegends": false
},
{
"id": 54,
"name": "ROWDimensions",
"parentLayerId": 0,
"defaultVisibility": true,
"subLayerIds": [
55,
56
],
"minScale": 0,
"maxScale": 0,
"type": "Annotation Layer",
"geometryType": "esriGeometryPolygon",
"supportsDynamicLegends": false
},
{
"id": 55,
"name": "100 Scale",
"parentLayerId": 54,
"defaultVisibility": true,
"subLayerIds": null,
"minScale": 2000,
"maxScale": 0,
"supportsDynamicLegends": false
},
{
"id": 56,
"name": "400 Scale",
"parentLayerId": 54,
"defaultVisibility": true,
"subLayerIds": null,
"minScale": 250000,
"maxScale": 2000,
"supportsDynamicLegends": false
},
{
"id": 51,
"name": "RouteNumbers",
"parentLayerId": 0,
"defaultVisibility": true,
"subLayerIds": [
52,
53,
48,
49,
50,
45,
46,
47
],
"minScale": 0,
"maxScale": 0,
"type": "Annotation Layer",
"geometryType": "esriGeometryPolygon",
"supportsDynamicLegends": false
},
{
"id": 52,
"name": "County 100 Scale",
"parentLayerId": 51,
"defaultVisibility": true,
"subLayerIds": null,
"minScale": 2000,
"maxScale": 0,
"supportsDynamicLegends": false
},
{
"id": 53,
"name": "County 400 Scale",
"parentLayerId": 51,
"defaultVisibility": true,
"subLayerIds": null,
"minScale": 250000,
"maxScale": 2000,
"supportsDynamicLegends": false
},
{
"id": 48,
"name": "Interstate 100 Scale",
"parentLayerId": 51,
"defaultVisibility": true,
"subLayerIds": null,
"minScale": 2000,
"maxScale": 0,
"supportsDynamicLegends": false
},
{
"id": 49,
"name": "Interstate 400 Scale",
"parentLayerId": 51,
"defaultVisibility": true,
"subLayerIds": null,
"minScale": 250000,
"maxScale": 2000,
"supportsDynamicLegends": false
},
{
"id": 50,
"name": "State 100 Scale",
"parentLayerId": 51,
"defaultVisibility": true,
"subLayerIds": null,
"minScale": 2000,
"maxScale": 0,
"supportsDynamicLegends": false
},
{
"id": 45,
"name": "State 400 Scale",
"parentLayerId": 51,
"defaultVisibility": true,
"subLayerIds": null,
"minScale": 250000,
"maxScale": 2000,
"supportsDynamicLegends": false
},
{
"id": 46,
"name": "US 100 Scale",
"parentLayerId": 51,
"defaultVisibility": true,
"subLayerIds": null,
"minScale": 2000,
"maxScale": 0,
"supportsDynamicLegends": false
},
{
"id": 47,
"name": "US 400 Scale",
"parentLayerId": 51,
"defaultVisibility": true,
"subLayerIds": null,
"minScale": 250000,
"maxScale": 2000,
"supportsDynamicLegends": false
},
{
"id": 42,
"name": "RoadNames",
"parentLayerId": 0,
"defaultVisibility": true,
"subLayerIds": [
43,
44
],
"minScale": 0,
"maxScale": 0,
"type": "Annotation Layer",
"geometryType": "esriGeometryPolygon",
"supportsDynamicLegends": false
},
{
"id": 43,
"name": "100 Scale",
"parentLayerId": 42,
"defaultVisibility": true,
"subLayerIds": null,
"minScale": 2000,
"maxScale": 0,
"supportsDynamicLegends": false
},
{
"id": 44,
"name": "400 Scale",
"parentLayerId": 42,
"defaultVisibility": true,
"subLayerIds": null,
"minScale": 250000,
"maxScale": 2000,
"supportsDynamicLegends": false
},
{
"id": 39,
"name": "RailRoadNames",
"parentLayerId": 0,
"defaultVisibility": true,
"subLayerIds": [
40,
41
],
"minScale": 0,
"maxScale": 0,
"type": "Annotation Layer",
"geometryType": "esriGeometryPolygon",
"supportsDynamicLegends": false
},
{
"id": 40,
"name": "100 Scale",
"parentLayerId": 39,
"defaultVisibility": true,
"subLayerIds": null,
"minScale": 2000,
"maxScale": 0,
"supportsDynamicLegends": false
},
{
"id": 41,
"name": "400 Scale",
"parentLayerId": 39,
"defaultVisibility": true,
"subLayerIds": null,
"minScale": 250000,
"maxScale": 2000,
"supportsDynamicLegends": false
},
{
"id": 36,
"name": "ParcelNumbers",
"parentLayerId": 0,
"defaultVisibility": true,
"subLayerIds": [
37,
38
],
"minScale": 0,
"maxScale": 0,
"type": "Annotation Layer",
"geometryType": "esriGeometryPolygon",
"supportsDynamicLegends": false
},
{
"id": 37,
"name": "100 Scale",
"parentLayerId": 36,
"defaultVisibility": true,
"subLayerIds": null,
"minScale": 2000,
"maxScale": 0,
"supportsDynamicLegends": false
},
{
"id": 38,
"name": "400 Scale",
"parentLayerId": 36,
"defaultVisibility": true,
"subLayerIds": null,
"minScale": 250000,
"maxScale": 2000,
"supportsDynamicLegends": false
},
{
"id": 33,
"name": "ParcelDimensions",
"parentLayerId": 0,
"defaultVisibility": true,
"subLayerIds": [
34,
35
],
"minScale": 0,
"maxScale": 0,
"type": "Annotation Layer",
"geometryType": "esriGeometryPolygon",
"supportsDynamicLegends": false
},
{
"id": 34,
"name": "100 Scale",
"parentLayerId": 33,
"defaultVisibility": true,
"subLayerIds": null,
"minScale": 2000,
"maxScale": 0,
"supportsDynamicLegends": false
},
{
"id": 35,
"name": "400 Scale",
"parentLayerId": 33,
"defaultVisibility": true,
"subLayerIds": null,
"minScale": 250000,
"maxScale": 2000,
"supportsDynamicLegends": false
},
{
"id": 30,
"name": "OrigBlockNumbers",
"parentLayerId": 0,
"defaultVisibility": true,
"subLayerIds": [
31,
32
],
"minScale": 0,
"maxScale": 0,
"type": "Annotation Layer",
"geometryType": "esriGeometryPolygon",
"supportsDynamicLegends": false
},
{
"id": 31,
"name": "100 Scale",
"parentLayerId": 30,
"defaultVisibility": true,
"subLayerIds": null,
"minScale": 2000,
"maxScale": 0,
"supportsDynamicLegends": false
},
{
"id": 32,
"name": "400 Scale",
"parentLayerId": 30,
"defaultVisibility": true,
"subLayerIds": null,
"minScale": 250000,
"maxScale": 2000,
"supportsDynamicLegends": false
},
{
"id": 27,
"name": "MiscText",
"parentLayerId": 0,
"defaultVisibility": true,
"subLayerIds": [
28,
29
],
"minScale": 0,
"maxScale": 0,
"type": "Annotation Layer",
"geometryType": "esriGeometryPolygon",
"supportsDynamicLegends": false
},
{
"id": 28,
"name": "100 Scale",
"parentLayerId": 27,
"defaultVisibility": true,
"subLayerIds": null,
"minScale": 2000,
"maxScale": 0,
"supportsDynamicLegends": false
},
{
"id": 29,
"name": "400 Scale",
"parentLayerId": 27,
"defaultVisibility": true,
"subLayerIds": null,
"minScale": 250000,
"maxScale": 2000,
"supportsDynamicLegends": false
},
{
"id": 24,
"name": "LotNumbers",
"parentLayerId": 0,
"defaultVisibility": true,
"subLayerIds": [
25,
26
],
"minScale": 0,
"maxScale": 0,
"type": "Annotation Layer",
"geometryType": "esriGeometryPolygon",
"supportsDynamicLegends": false
},
{
"id": 25,
"name": "100 Scale",
"parentLayerId": 24,
"defaultVisibility": true,
"subLayerIds": null,
"minScale": 2000,
"maxScale": 0,
"supportsDynamicLegends": false
},
{
"id": 26,
"name": "400 Scale",
"parentLayerId": 24,
"defaultVisibility": true,
"subLayerIds": null,
"minScale": 250000,
"maxScale": 2000,
"supportsDynamicLegends": false
},
{
"id": 21,
"name": "LotDimensions",
"parentLayerId": 0,
"defaultVisibility": true,
"subLayerIds": [
22,
23
],
"minScale": 0,
"maxScale": 0,
"type": "Annotation Layer",
"geometryType": "esriGeometryPolygon",
"supportsDynamicLegends": false
},
{
"id": 22,
"name": "100 Scale",
"parentLayerId": 21,
"defaultVisibility": true,
"subLayerIds": null,
"minScale": 2000,
"maxScale": 0,
"supportsDynamicLegends": false
},
{
"id": 23,
"name": "400 Scale",
"parentLayerId": 21,
"defaultVisibility": true,
"subLayerIds": null,
"minScale": 250000,
"maxScale": 2000,
"supportsDynamicLegends": false
},
{
"id": 18,
"name": "HydroText",
"parentLayerId": 0,
"defaultVisibility": true,
"subLayerIds": [
19,
20
],
"minScale": 0,
"maxScale": 0,
"type": "Annotation Layer",
"geometryType": "esriGeometryPolygon",
"supportsDynamicLegends": false
},
{
"id": 19,
"name": "100 Scale",
"parentLayerId": 18,
"defaultVisibility": true,
"subLayerIds": null,
"minScale": 2000,
"maxScale": 0,
"supportsDynamicLegends": false
},
{
"id": 20,
"name": "400 Scale",
"parentLayerId": 18,
"defaultVisibility": true,
"subLayerIds": null,
"minScale": 250000,
"maxScale": 2000,
"supportsDynamicLegends": false
},
{
"id": 15,
"name": "GovLotNumbers",
"parentLayerId": 0,
"defaultVisibility": true,
"subLayerIds": [
16,
17
],
"minScale": 0,
"maxScale": 0,
"type": "Annotation Layer",
"geometryType": "esriGeometryPolygon",
"supportsDynamicLegends": false
},
{
"id": 16,
"name": "100 Scale",
"parentLayerId": 15,
"defaultVisibility": true,
"subLayerIds": null,
"minScale": 2000,
"maxScale": 0,
"supportsDynamicLegends": false
},
{
"id": 17,
"name": "400 Scale",
"parentLayerId": 15,
"defaultVisibility": true,
"subLayerIds": null,
"minScale": 250000,
"maxScale": 2000,
"supportsDynamicLegends": false
},
{
"id": 13,
"name": "DetailPageNumbers",
"parentLayerId": 0,
"defaultVisibility": true,
"subLayerIds": [
14
],
"minScale": 0,
"maxScale": 0,
"type": "Annotation Layer",
"geometryType": "esriGeometryPolygon",
"supportsDynamicLegends": false
},
{
"id": 14,
"name": "Annotation Class 1",
"parentLayerId": 13,
"defaultVisibility": true,
"subLayerIds": null,
"minScale": 24000,
"maxScale": 0,
"supportsDynamicLegends": false
},
{
"id": 10,
"name": "CorpNames",
"parentLayerId": 0,
"defaultVisibility": true,
"subLayerIds": [
11,
12
],
"minScale": 0,
"maxScale": 0,
"type": "Annotation Layer",
"geometryType": "esriGeometryPolygon",
"supportsDynamicLegends": false
},
{
"id": 11,
"name": "100 Scale",
"parentLayerId": 10,
"defaultVisibility": true,
"subLayerIds": null,
"minScale": 2000,
"maxScale": 0,
"supportsDynamicLegends": false
},
{
"id": 12,
"name": "400 Scale",
"parentLayerId": 10,
"defaultVisibility": true,
"subLayerIds": null,
"minScale": 250000,
"maxScale": 2000,
"supportsDynamicLegends": false
},
{
"id": 7,
"name": "CondoCodes",
"parentLayerId": 0,
"defaultVisibility": true,
"subLayerIds": [
8,
9
],
"minScale": 0,
"maxScale": 0,
"type": "Annotation Layer",
"geometryType": "esriGeometryPolygon",
"supportsDynamicLegends": false
},
{
"id": 8,
"name": "100 Scale",
"parentLayerId": 7,
"defaultVisibility": true,
"subLayerIds": null,
"minScale": 2000,
"maxScale": 0,
"supportsDynamicLegends": false
},
{
"id": 9,
"name": "400 Scale",
"parentLayerId": 7,
"defaultVisibility": true,
"subLayerIds": null,
"minScale": 250000,
"maxScale": 2000,
"supportsDynamicLegends": false
},
{
"id": 4,
"name": "BlockNumbers",
"parentLayerId": 0,
"defaultVisibility": true,
"subLayerIds": [
5,
6
],
"minScale": 0,
"maxScale": 0,
"type": "Annotation Layer",
"geometryType": "esriGeometryPolygon",
"supportsDynamicLegends": false
},
{
"id": 5,
"name": "100 Scale",
"parentLayerId": 4,
"defaultVisibility": true,
"subLayerIds": null,
"minScale": 2000,
"maxScale": 0,
"supportsDynamicLegends": false
},
{
"id": 6,
"name": "400 Scale",
"parentLayerId": 4,
"defaultVisibility": true,
"subLayerIds": null,
"minScale": 250000,
"maxScale": 2000,
"supportsDynamicLegends": false
},
{
"id": 1,
"name": "Acreage",
"parentLayerId": 0,
"defaultVisibility": true,
"subLayerIds": [
2,
3
],
"minScale": 0,
"maxScale": 0,
"type": "Annotation Layer",
"geometryType": "esriGeometryPolygon",
"supportsDynamicLegends": false
},
{
"id": 2,
"name": "100 Scale",
"parentLayerId": 1,
"defaultVisibility": true,
"subLayerIds": null,
"minScale": 2000,
"maxScale": 0,
"supportsDynamicLegends": false
},
{
"id": 3,
"name": "400 Scale",
"parentLayerId": 1,
"defaultVisibility": true,
"subLayerIds": null,
"minScale": 250000,
"maxScale": 2000,
"supportsDynamicLegends": false
},
{
"id": 65,
"name": "Symbols",
"parentLayerId": 0,
"defaultVisibility": true,
"subLayerIds": null,
"minScale": 24000,
"maxScale": 0,
"type": "Feature Layer",
"geometryType": "esriGeometryPolyline",
"supportsDynamicLegends": true
},
{
"id": 85,
"name": "Boundaries",
"parentLayerId": -1,
"defaultVisibility": true,
"subLayerIds": [
84,
83,
82,
81,
80,
79
],
"minScale": 0,
"maxScale": 0,
"type": "Group Layer",
"supportsDynamicLegends": false
},
{
"id": 84,
"name": "Section",
"parentLayerId": 85,
"defaultVisibility": true,
"subLayerIds": null,
"minScale": 32000,
"maxScale": 0,
"type": "Feature Layer",
"geometryType": "esriGeometryPolygon",
"supportsDynamicLegends": true
},
{
"id": 83,
"name": "Geographic Township",
"parentLayerId": 85,
"defaultVisibility": true,
"subLayerIds": null,
"minScale": 32000,
"maxScale": 0,
"type": "Feature Layer",
"geometryType": "esriGeometryPolygon",
"supportsDynamicLegends": true
},
{
"id": 82,
"name": "Subdivision",
"parentLayerId": 85,
"defaultVisibility": true,
"subLayerIds": null,
"minScale": 32000,
"maxScale": 0,
"type": "Feature Layer",
"geometryType": "esriGeometryPolygon",
"supportsDynamicLegends": true
},
{
"id": 81,
"name": "ROW",
"parentLayerId": 85,
"defaultVisibility": true,
"subLayerIds": null,
"minScale": 32000,
"maxScale": 0,
"type": "Feature Layer",
"geometryType": "esriGeometryPolygon",
"supportsDynamicLegends": true
},
{
"id": 80,
"name": "Lot",
"parentLayerId": 85,
"defaultVisibility": true,
"subLayerIds": null,
"minScale": 32000,
"maxScale": 0,
"type": "Feature Layer",
"geometryType": "esriGeometryPolygon",
"supportsDynamicLegends": true
},
{
"id": 79,
"name": "Ownership Parcel",
"parentLayerId": 85,
"defaultVisibility": true,
"subLayerIds": null,
"minScale": 32000,
"maxScale": 0,
"type": "Feature Layer",
"geometryType": "esriGeometryPolygon",
"supportsDynamicLegends": true
},
{
"id": 73,
"name": "Corporate",
"parentLayerId": -1,
"defaultVisibility": false,
"subLayerIds": null,
"minScale": 0,
"maxScale": 5000,
"type": "Feature Layer",
"geometryType": "esriGeometryPolygon",
"supportsDynamicLegends": true
},
{
"id": 75,
"name": "Sections",
"parentLayerId": -1,
"defaultVisibility": true,
"subLayerIds": null,
"minScale": 150000,
"maxScale": 50000,
"type": "Feature Layer",
"geometryType": "esriGeometryPolygon",
"supportsDynamicLegends": true
},
{
"id": 74,
"name": "Political Townships",
"parentLayerId": -1,
"defaultVisibility": true,
"subLayerIds": null,
"minScale": 0,
"maxScale": 33000,
"type": "Feature Layer",
"geometryType": "esriGeometryPolygon",
"supportsDynamicLegends": true
},
{
"id": 76,
"name": "Polygons",
"parentLayerId": -1,
"defaultVisibility": true,
"subLayerIds": [
77,
78
],
"minScale": 0,
"maxScale": 0,
"type": "Group Layer",
"supportsDynamicLegends": false
},
{
"id": 77,
"name": "Hydrography",
"parentLayerId": 76,
"defaultVisibility": true,
"subLayerIds": null,
"minScale": 0,
"maxScale": 0,
"type": "Feature Layer",
"geometryType": "esriGeometryPolygon",
"supportsDynamicLegends": true
},
{
"id": 78,
"name": "Tax Parcels",
"parentLayerId": 76,
"defaultVisibility": true,
"subLayerIds": null,
"minScale": 0,
"maxScale": 0,
"type": "Feature Layer",
"geometryType": "esriGeometryPolygon",
"supportsDynamicLegends": true
}
],
"tables": [],
"spatialReference": {
"wkid": 102671,
"latestWkid": 3435,
"xyTolerance": 0.003280833333333333,
"zTolerance": 0.001,
"mTolerance": 0.001,
"falseX": -17463800,
"falseY": -46132600,
"xyUnits": 1.3724482207846552E8,
"falseZ": -100000,
"zUnits": 10000,
"falseM": -100000,
"mUnits": 10000
},
"singleFusedMapCache": true,
"tileInfo": {
"rows": 256,
"cols": 256,
"dpi": 96,
"format": "PNG32",
"compressionQuality": 0,
"origin": {
"x": -17463800,
"y": 19496100
},
"spatialReference": {
"wkid": 102671,
"latestWkid": 3435,
"xyTolerance": 0.003280833333333333,
"zTolerance": 0.001,
"mTolerance": 0.001,
"falseX": -17463800,
"falseY": -46132600,
"xyUnits": 1.3724482207846552E8,
"falseZ": -100000,
"zUnits": 10000,
"falseM": -100000,
"mUnits": 10000
},
"lods": [
{
"level": 0,
"resolution": 868.0555555555555,
"scale": 1000000
},
{
"level": 1,
"resolution": 434.02777777777777,
"scale": 500000
},
{
"level": 2,
"resolution": 217.01388888888889,
"scale": 250000
},
{
"level": 3,
"resolution": 108.50694444444444,
"scale": 125000
},
{
"level": 4,
"resolution": 55.55555555555555,
"scale": 64000
},
{
"level": 5,
"resolution": 27.777777777777775,
"scale": 32000
},
{
"level": 6,
"resolution": 13.888888888888888,
"scale": 16000
},
{
"level": 7,
"resolution": 6.944444444444444,
"scale": 8000
},
{
"level": 8,
"resolution": 3.472222222222222,
"scale": 4000
},
{
"level": 9,
"resolution": 1.736111111111111,
"scale": 2000
},
{
"level": 10,
"resolution": 0.8680555555555555,
"scale": 1000
},
{
"level": 11,
"resolution": 0.43402777777777773,
"scale": 500
}
]
},
"initialExtent": {
"xmin": 1128175.426874367,
"ymin": 1357879.1896021108,
"xmax": 1137552.7630499438,
"ymax": 1593317.3085817697,
"spatialReference": {
"wkid": 102671,
"latestWkid": 3435,
"xyTolerance": 0.003280833333333333,
"zTolerance": 0.001,
"mTolerance": 0.001,
"falseX": -17463800,
"falseY": -46132600,
"xyUnits": 1.3724482207846552E8,
"falseZ": -100000,
"zUnits": 10000,
"falseM": -100000,
"mUnits": 10000
}
},
"fullExtent": {
"xmin": 1024926.7773394496,
"ymin": 1381372.9780000001,
"xmax": 1223621.9026605503,
"ymax": 1592668.282,
"spatialReference": {
"wkid": 102671,
"latestWkid": 3435,
"xyTolerance": 0.003280833333333333,
"zTolerance": 0.001,
"mTolerance": 0.001,
"falseX": -17463800,
"falseY": -46132600,
"xyUnits": 1.3724482207846552E8,
"falseZ": -100000,
"zUnits": 10000,
"falseM": -100000,
"mUnits": 10000
}
},
"minScale": 1000000,
"maxScale": 500,
"minLOD": 0,
"maxLOD": 11,
"units": "esriFeet",
"supportedImageFormatTypes": "PNG32,PNG24,PNG,JPG,DIB,TIFF,EMF,PS,PDF,GIF,SVG,SVGZ,BMP",
"documentInfo": {
"Title": "Untitled.aprx",
"Author": "",
"Comments": " Parcels tax map for Iroquois County, Illinois.<\/SPAN><\/P><\/DIV><\/DIV>",
"Subject": "Parcels tax map for Iroquois County, Illinois.",
"Category": "",
"AntialiasingMode": "Fast",
"TextAntialiasingMode": "Force",
"Keywords": "Iroquois,county,Illinois,parcels"
},
"capabilities": "Map,Query,Data",
"supportedQueryFormats": "JSON, geoJSON, PBF",
"exportTilesAllowed": false,
"datumTransformations": [
{
"geoTransforms": [
{
"wkid": 108001,
"latestWkid": 1241,
"transformForward": true,
"name": "NAD_1927_To_NAD_1983_NADCON"
}
]
},
{
"geoTransforms": [
{
"wkid": 108001,
"latestWkid": 1241,
"transformForward": false,
"name": "NAD_1927_To_NAD_1983_NADCON"
}
]
},
{
"geoTransforms": [
{
"wkid": 108190,
"latestWkid": 108190,
"transformForward": true,
"name": "WGS_1984_(ITRF00)_To_NAD_1983"
}
]
},
{
"geoTransforms": [
{
"wkid": 108190,
"latestWkid": 108190,
"transformForward": false,
"name": "WGS_1984_(ITRF00)_To_NAD_1983"
}
]
}
],
"supportsDatumTransformation": true,
"archivingInfo": {"supportsHistoricMoment": false},
"maxRecordCount": 2000,
"maxImageHeight": 4096,
"maxImageWidth": 4096,
"supportedExtensions": ""
}